Workbook

Sheet صورت وضعیت

Sheet سهام
A1: صندوق سرمایه‌گذاری امین یکم فردا
A2: صورت وضعیت پرتفوی
A3: برای ماه منتهی به 1405/07/30
A4: -1 | B4: سرمایه گذاری ها
A5: -1-1 | C5: سرمایه گذاری در سهام و حق تقدم سهام
F6: 1405/06/31 | L6: تغییرات طی دوره | T6: 1405/07/30
L7: خرید طی دوره | P7: فروش طی دوره
A8: نام شرکت | E8: تعداد | H8: بهای تمام شده | J8: خالص ارزش فروش | L8: تعداد | N8: بهای تمام شده | P8: تعداد | R8: مبلغ فروش | T8: تعداد | V8: قیمت بازار هر سهم | X8: بهای تمام شده | Z8: خالص ارزش فروش | AB8: درصد به کل دارایی ها
A9: آهن و فولاد غدیر ایرانیان | E9: 300000 | H9: 1558108768 | J9: 2173071300 | L9: 0 | N9: 0 | P9: 0 | R9: 0 | T9: 300000 | V9: 12280 | X9: 1558108768 | Z9: 3655522680 | AB9: 0.01
A10: احیا استیل فولاد بافت | E10: 10666000 | H10: 35825573025 | J10: 49742693554 | L10: 0 | N10: 0 | P10: -5330000 | R10: 25597787806 | T10: 5336000 | V10: 5230 | X10: 17922863084 | Z10: 2.7691557e+10 | AB10: 0.05
A11: بانک ملت | E11: 189739369 | H11: 209210859474 | J11: 2.7092439e+11 | L11: 0 | N11: 0 | P11: 0 | R11: 0 | T11: 189739369 | V11: 1507 | X11: 209210859474 | Z11: 2.8372693e+11 | AB11: 0.55
A12: پالایش نفت اصفهان | E12: 8456068 | H12: 78525549970 | J12: 1.038769e+11 | L12: 0 | N12: 0 | P12: 0 | R12: 0 | T12: 8456068 | V12: 13720 | X12: 78525549970 | Z12: 1.1512044e+11 | AB12: 0.22
A13: پالایش نفت بندرعباس | E13: 10096789 | H13: 100684830825 | J13: 1.471753e+11 | L13: 0 | N13: 0 | P13: 0 | R13: 0 | T13: 10096789 | V13: 15270 | X13: 100684830825 | Z13: 1.5298617e+11 | AB13: 0.3
A14: پاکدیس | E14: 2100000 | H14: 29223601416 | J14: 24296723220 | L14: 0 | N14: 0 | P14: 0 | R14: 0 | T14: 2100000 | V14: 14990 | X14: 29223601416 | Z14: 31235667330 | AB14: 0.06
A15: پاکسان‌ | E15: 217416 | H15: 494865923 | J15: 5.458105e+08 | L15: 0 | N15: 0 | P15: 0 | R15: 0 | T15: 217416 | V15: 2664 | X15: 494865923 | Z15: 5.7471904e+08 | AB15: 0
A16: پتروشیمی اروند | E16: 980000 | H16: 49926450603 | J16: 54134877482 | L16: 0 | N16: 0 | P16: 0 | R16: 0 | T16: 980000 | V16: 65370 | X16: 49926450603 | Z16: 63567396102 | AB16: 0.12
A17: پتروشیمی بوعلی سینا | E17: 369735 | H17: 13130790576 | J17: 2.1832847e+10 | L17: 0 | N17: 0 | P17: 0 | R17: 0 | T17: 369735 | V17: 61080 | X17: 13130790576 | Z17: 2.2408844e+10 | AB17: 0.04
A18: پتروشیمی پردیس | E18: 3994160 | H18: 59973109877 | J18: 5.3226919e+10 | L18: 0 | N18: 0 | P18: -3994160 | R18: 46587556421 | T18: 0 | V18: 0 | X18: 0 | Z18: 0 | AB18: 0
A19: پتروشیمی شازند | E19: 621899 | H19: 9903379181 | J19: 1.7469867e+10 | L19: 0 | N19: 0 | P19: 0 | R19: 0 | T19: 621899 | V19: 35090 | X19: 9903379181 | Z19: 2.1653748e+10 | AB19: 0.04
A20: پتروشیمی نوری | E20: 668664 | H20: 21311884176 | J20: 3.3944416e+10 | L20: 0 | N20: 0 | P20: 0 | R20: 0 | T20: 668664 | V20: 42770 | X20: 21311884176 | Z20: 2.8377691e+10 | AB20: 0.06
... A66: سرمایه گذاری دنیای سرمایه | E66: 0 | H66: 0 | J66: 0 | L66: 7262500 | N66: 26359761413 | P66: 0 | R66: 0 | T66: 7262500 | V66: 5040 | X66: 26359761413 | Z66: 36320058810 | AB66: 0.07
A67: جمع | H67: 3480499203547 | J67: 4.5773019e+12 | N67: 166190905649 | R67: 214920158050 | X67: 3503089301474 | Z67: 4.9697289e+12 | AB67: 9.63

Sheet اوراق مشتقه
A1: صندوق سرمایه‌گذاری امین یکم فردا
A2: صورت وضعیت پرتفوی
A3: برای ماه منتهی به 1405/07/30
A5: اطلاعات آماری مرتبط با اوراق اختیار فروش تبعی خریداری شده توسط صندوق سرمایه گذاری:
I6: 1405/06/31 | AC6: 1405/07/30
A8: نام سهام | I8: تعداد اوراق تبعی | M8: قیمت اعمال | Q8: تاریخ اعمال | W8: نرخ سود موثر | AC8: تعداد اوراق تبعی | AI8: قیمت اعمال | AM8: تاریخ اعمال | AQ8: نرخ سود موثر
A9: اختيارف.ت.هرمز-2324-060218 | I9: 303003995 | M9: 2231 | Q9: 1406/02/18 | W9: 0.25741355 | AC9: 303003995 | AI9: 2231 | AM9: 1406/02/18 | AQ9: 0.25741355
A10: اختیارف.ت.دقاضی-28289-0606 | I10: 22976885 | M10: 28289 | Q10: 1406/06/15 | W10: 0.29578861 | AC10: 22976885 | AI10: 28289 | AM10: 1406/06/15 | AQ10: 0.29578861
A11: اطلاعات آماری مرتبط با موقعیت های اخذ شده در اوراق اختیار معامله توسط صندوق سرمایه گذاری:
C12: 1405/06/31 | Y12: 1405/07/30
A13: نام سهام | C13: نوع اختیار | E13: نوع موقعیت | G13: استراتژی ماخوذه | K13: تعداد اوراق | O13: قیمت اعمال | S13: تاریخ اعمال | Y13: نوع اختیار | AE13: نوع موقعیت | AK13: استراتژی ماخوذه | AO13: تعداد اوراق | AS13: قیمت اعمال | AV13: تاریخ اعمال
A14: اختيارخ.ت.هرمز-2377-060318 | C14: اختیار خرید | E14: موقعیت فروش | G14: - | K14: 325379674 | O14: 2284 | S14: 1406/03/18 | Y14: اختیار خرید | AE14: موقعیت فروش | AK14: - | AO14: 325379674 | AS14: 2284 | AV14: 1406/03/18
A15: اختیارخ.ت.دقاضی-26732-0607 | C15: اختیار خرید | E15: موقعیت فروش | G15: - | K15: 22976885 | O15: 28927 | S15: 1406/07/18 | Y15: اختیار خرید | AE15: موقعیت فروش | AK15: - | AO15: 22976885 | AS15: 28927 | AV15: 1406/07/18
A16: اطلاعات آماری مرتبط با قراردادهای آتی توسط صندوق سرمایه گذاری:
C17: 1405/06/31 | O17: 1405/07/30
A18: نام سهام | C18: نوع موقعیت | E18: تعداد اوراق | G18: قیمت اعمال | K18: تاریخ اعمال | O18: نوع موقعیت | U18: تعداد اوراق | AA18: قیمت اعمال | AG18: تاریخ اعمال

Sheet واحدهای صندوق
A1: صندوق سرمایه‌گذاری امین یکم فردا
A2: صورت وضعیت پرتفوی
A3: برای ماه منتهی به 1405/07/30
A5: -2-1 | B5: سرمایه‌گذاری در واحدهای صندوق های سرمایه گذاری
E6: 1405/06/31 | K6: تغییرات طی دوره | S6: 1405/07/30
K7: خرید/صدور طی دوره | O7: فروش/ابطال طی دوره
A8: صندوق | D8: تعداد واحد | G8: بهای تمام شده | I8: خالص ارزش فروش | K8: تعداد | M8: بهای تمام شده | O8: تعداد | Q8: مبلغ فروش | S8: تعداد | U8: قیمت ابطال / بازار هر واحد | W8: بهای تمام شده | Y8: خالص ارزش فروش | AA8: درصد به کل دارایی ها
A9: صندوق باران کارگزاری بانک کشاورزی | D9: 1470 | G9: 4655858970 | I9: 327923681560 | K9: 0 | M9: 0 | O9: 0 | Q9: 0 | S9: 1470 | U9: 239085775 | W9: 4655858970 | Y9: 351456069250 | AA9: 0.68
A10: صندوق پالایشی یکم-سهام | D10: 115000 | G10: 29612310463 | I10: 6.6945066e+10 | K10: 0 | M10: 0 | O10: 0 | Q10: 0 | S10: 115000 | U10: 616979 | W10: 29612310463 | Y10: 7.0789394e+10 | AA10: 0.14
A11: صندوق س صنایع آروین1-بخشی | D11: 15335408 | G11: 159999992560 | I11: 1.8367814e+11 | K11: 0 | M11: 0 | O11: 0 | Q11: 0 | S11: 15335408 | U11: 13200 | W11: 159999992560 | Y11: 2.019618e+11 | AA11: 0.39
A12: صندوق س. مشترک امین آوید-س | D12: 33327500 | G12: 325946054073 | I12: 636820216956 | K12: 1000000 | M12: 22049389985 | O12: 0 | Q12: 0 | S12: 34327500 | U12: 21900 | W12: 347995444058 | Y12: 750043173825 | AA12: 1.46
A13: صندوق س.بخشی صنایع پاداش2-ب | D13: 2500000 | G13: 25029000000 | I13: 80945895250 | K13: 0 | M13: 0 | O13: 0 | Q13: 0 | S13: 2500000 | U13: 37280 | W13: 25029000000 | Y13: 92985640000 | AA13: 0.18
A14: صندوق س.بخشی صنایع پاداش-ب | D14: 3626000 | G14: 70138909141 | I14: 9.586076e+10 | K14: 0 | M14: 0 | O14: 0 | Q14: 0 | S14: 3626000 | U14: 29200 | W14: 70138909141 | Y14: 105635677840 | AA14: 0.21
A15: صندوق س.بخشی کیان3-ب | D15: 5000000 | G15: 50112250000 | I15: 50483620000 | K15: 0 | M15: 0 | O15: 0 | Q15: 0 | S15: 5000000 | U15: 13885 | W15: 50112250000 | Y15: 69265322500 | AA15: 0.13
A16: صندوق س.پشتوانه طلای پاداش | D16: 14000000 | G16: 150468345595 | I16: 295157385600 | K16: 0 | M16: 0 | O16: 0 | Q16: 0 | S16: 14000000 | U16: 23389 | W16: 150468345595 | Y16: 327053064800 | AA16: 0.64
A17: صندوق س.دی سهام-سهام | D17: 5338755 | G17: 99998228054 | I17: 1.4631297e+11 | K17: 0 | M17: 0 | O17: 0 | Q17: 0 | S17: 5338755 | U17: 30700 | W17: 99998228054 | Y17: 1.6352281e+11 | AA17: 0.32
A18: صندوق س.کالای پاداش1 | D18: 4994000 | G18: 49999928000 | I18: 51027313656 | K18: 0 | M18: 0 | O18: 0 | Q18: 0 | S18: 4994000 | U18: 10048 | W18: 49999928000 | Y18: 5.0119496e+10 | AA18: 0.1
A19: صندوق سرمایه گذاری طلای نور امین | D19: 24385722 | G19: 249999991699 | I19: 329694941440 | K19: 0 | M19: 0 | O19: 0 | Q19: 0 | S19: 24385722 | U19: 15122 | W19: 249999991699 | Y19: 368760868084 | AA19: 0.72
A20: جمع | G20: 1215960868555 | I20: 2.26485e+12 | M20: 22049389985 | Q20: 0 | W20: 1238010258540 | Y20: 2.5515933e+12 | AA20: 4.97

Sheet اوراق
A1: صندوق سرمایه‌گذاری امین یکم فردا
A2: صورت وضعیت پرتفوی
A3: برای ماه منتهی به 1405/07/30
A5: -3-1 | B5: سرمایه‌گذاری در اوراق بهادار با درآمد ثابت یا علی‌الحساب
A6: اطلاعات اوراق با درآمد ثابت | P6: 1405/06/31 | V6: تغییرات طی دوره | AD6: 1405/07/30
V7: خرید طی دوره | Z7: فروش طی دوره
A8: نام اوراق | D8: دارای مجوز از سازمان | F8: پذیرفته شده در بورس یا فرابورس | H8: تاریخ انتشار اوراق | J8: تاریخ سررسید | L8: نرخ سود اسمی | N8: نرخ سود موثر | P8: تعداد | R8: بهای تمام شده | T8: خالص ارزش فروش | V8: تعداد | X8: بهای تمام شده | Z8: تعداد | AB8: مبلغ فروش | AD8: تعداد | AF8: قیمت بازار هر سهم | AH8: بهای تمام شده | AJ8: خالص ارزش فروش | AL8: درصد به کل دارایی ها
A9: اسنادخزانه-م4بودجه02-051021 | D9: بله | F9: بله | H9: 1402/08/15 | J9: 1405/10/21 | L9: 0 | N9: 0 | P9: 953192 | R9: 543730268066 | T9: 768416128501 | V9: 0 | X9: 0 | Z9: 0 | AB9: 0 | AD9: 953192 | AF9: 831150 | AH9: 543730268066 | AJ9: 791814747292 | AL9: 1.54
A10: صکوک اجاره صبا806-بدون ضامن | D10: بله | F10: بله | H10: 1404/06/01 | J10: 1408/06/01 | L10: 26 | N10: 26 | P10: 1500000 | R10: 1500703125000 | T10: 1349265937500 | V10: 0 | X10: 0 | Z10: 0 | AB10: 0 | AD10: 1500000 | AF10: 900000 | AH10: 1500703125000 | AJ10: 1349265937500 | AL10: 2.63
A11: صکوک اجاره فارس806-بدون ضامن | D11: بله | F11: بله | H11: 1404/06/24 | J11: 1408/06/24 | L11: 23 | N11: 23 | P11: 1297000 | R11: 1297000000000 | T11: 1166665280625 | V11: 0 | X11: 0 | Z11: 0 | AB11: 0 | AD11: 1297000 | AF11: 900000 | AH11: 1297000000000 | AJ11: 1166665280625 | AL11: 2.27
A12: صکوک مرابحه دارو901-بدون ضامن | D12: بله | F12: بله | H12: 1405/01/08 | J12: 1409/01/08 | L12: 23 | N12: 23 | P12: 2000000 | R12: 2000000000000 | T12: 1799021250000 | V12: 5000 | X12: 4707058070 | Z12: 5000 | AB12: 4847362813 | AD12: 2000000 | AF12: 846810 | AH12: 1999707058070 | AJ12: 1692699094125 | AL12: 3.3
A13: صکوک مرابحه دارو904-3ماهه23% | D13: بله | F13: بله | H13: 1405/04/28 | J13: 1409/04/28 | L13: 23 | N13: 23 | P13: 1500000 | R13: 1500000000000 | T13: 1349265937500 | V13: 0 | X13: 0 | Z13: 0 | AB13: 0 | AD13: 1500000 | AF13: 900000 | AH13: 1500000000000 | AJ13: 1349265937500 | AL13: 2.63
A14: مرابحه پارس میکاکیش060708 | D14: بله | F14: بله | H14: 1402/07/08 | J14: 1406/07/08 | L14: 23 | N14: 23 | P14: 2120000 | R14: 2120000000000 | T14: 2118847250000 | V14: 155000 | X14: 154758620570 | Z14: 5000 | AB14: 4847362813 | AD14: 2270000 | AF14: 846810 | AH14: 2269758506996 | AJ14: 1921213471831 | AL14: 3.74
A15: مرابحه داروسازی داناامین090520 | D15: بله | F15: بله | H15: 1405/05/20 | J15: 1409/05/20 | L15: 23 | N15: 23 | P15: 2000000 | R15: 2000000000000 | T15: 1799021250000 | V15: 5000 | X15: 4707058070 | Z15: 5000 | AB15: 4847362813 | AD15: 2000000 | AF15: 919232 | AH15: 1999707058070 | AJ15: 1837464335200 | AL15: 3.58
A16: مرابحه س. و توسعه کیش14050724 | D16: بله | F16: بله | H16: 1401/07/24 | J16: 1405/07/24 | L16: 18 | N16: 18 | P16: 440000 | R16: 440060000000 | T16: 439566375748 | V16: 0 | X16: 0 | Z16: 440000 | AB16: 440000000000 | AD16: 0 | AF16: 0 | AH16: 0 | AJ16: 0 | AL16: 0
A17: مرابحه عام دولت137-ش.خ061229 | D17: بله | F17: بله | H17: 1402/06/29 | J17: 1406/12/29 | L17: 20.5 | N17: 20.5 | P17: 650000 | R17: 502580500000 | T17: 485695259521 | V17: 0 | X17: 0 | Z17: 0 | AB17: 0 | AD17: 650000 | AF17: 747630 | AH17: 502580500000 | AJ17: 485695259521 | AL17: 0.95
A18: مرابحه عام دولت186-ش.خ051124 | D18: بله | F18: بله | H18: 1403/07/24 | J18: 1405/11/24 | L18: 23 | N18: 23 | P18: 560000 | R18: 497322177215 | T18: 479547104400 | V18: 0 | X18: 0 | Z18: 0 | AB18: 0 | AD18: 560000 | AF18: 867960 | AH18: 497322177215 | AJ18: 485793306180 | AL18: 0.95
A19: مرابحه عام دولت206-ش.خ051114 | D19: بله | F19: بله | H19: 1403/12/14 | J19: 1405/11/14 | L19: 23 | N19: 23 | P19: 598449 | R19: 532359249379 | T19: 517128686961 | V19: 0 | X19: 0 | Z19: 0 | AB19: 0 | AD19: 598449 | AF19: 868923 | AH19: 532359249379 | AJ19: 519723347109 | AL19: 1.01
A20: مرابحه عام دولت223-ش.خ070431 | D20: بله | F20: بله | H20: 1404/04/31 | J20: 1407/04/31 | L20: 23 | N20: 23 | P20: 1950000 | R20: 1801410000000 | T20: 1447087717968 | V20: 0 | X20: 0 | Z20: 0 | AB20: 0 | AD20: 1950000 | AF20: 742500 | AH20: 1801410000000 | AJ20: 1447087717968 | AL20: 2.82
... A28: شهرداری مشهد | D28: خیر | F28: خیر | H28: 1405/02/31 | J28: 1409/02/31 | L28: 23 | N28: 23 | P28: 3500000 | R28: 3500000000000 | T28: 3500000000000 | V28: 0 | X28: 0 | Z28: 0 | AB28: 0 | AD28: 3500000 | AF28: 1000000 | AH28: 3500000000000 | AJ28: 3500000000000 | AL28: 6.82
A29: جمع | R29: 31969695071850 | T29: 29262482039434 | X29: 164172736710 | AB29: 454542088439 | AH29: 31678807694986 | AJ29: 28426801923650 | AL29: 55.39

Sheet تعدیل قیمت
A1: صندوق سرمایه‌گذاری امین یکم فردا
A2: صورت وضعیت پرتفوی
A3: برای ماه منتهی به 1405/07/30
A4: اوراق بهاداری که ارزش آنها در تاریخ گزارش تعدیل شده
A5: (بر اساس دستورالعمل نحوه تعیین قیمت خرید و فروش اوراق بهادار در صندوق های سرمایه گذاری)
C7: 1405/07/30
A8: نام اوراق بهادار | C8: تعداد | E8: قیمت پایانی | G8: قیمت تعدیل شده | I8: درصد تعدیل | K8: خالص ارزش فروش تعدیل شده | M8: دلیل تعدیل
A9: مرابحه عام دولت137-ش.خ061229 | C9: 650000 | E9: 830700 | G9: 747630 | I9: -0.1 | K9: 485695259521 | M9: سایر
A10: مرابحه پارس میکاکیش060708 | C10: 2270000 | E10: 940900 | G10: 846810 | I10: -0.1 | K10: 1921213471831 | M10: سایر
A11: اسنادخزانه-م4بودجه02-051021 | C11: 953192 | E11: 923500 | G11: 831150 | I11: -0.1 | K11: 791814747292 | M11: سایر
A12: مرابحه کاسپین تامین 070625 | C12: 150000 | E12: 1000000 | G12: 900000 | I12: -0.1 | K12: 134926593750 | M12: سایر
A13: مرابحه عام دولت186-ش.خ051124 | C13: 560000 | E13: 964400 | G13: 867960 | I13: -0.1 | K13: 485793306180 | M13: سایر
A14: مرابحه عام دولت206-ش.خ051114 | C14: 598449 | E14: 965470 | G14: 868923 | I14: -0.1 | K14: 519723347109 | M14: سایر
A15: مرابحه عام دولت223-ش.خ070431 | C15: 1950000 | E15: 825000 | G15: 742500 | I15: -0.1 | K15: 1447087717968 | M15: سایر
A16: صکوک اجاره صبا806-بدون ضامن | C16: 1500000 | E16: 1000000 | G16: 900000 | I16: -0.1 | K16: 1349265937500 | M16: سایر
A17: صکوک اجاره فارس806-بدون ضامن | C17: 1297000 | E17: 1000000 | G17: 900000 | I17: -0.1 | K17: 1166665280625 | M17: سایر
A18: مرابحه عام دولت254-ش.خ070911 | C18: 2706888 | E18: 811320 | G18: 730188 | I18: -0.1 | K18: 1975462392876 | M18: سایر
A19: مرابحه عام دولت265-ش.خ070430 | C19: 2137500 | E19: 811840 | G19: 730656 | I19: -0.1 | K19: 1560927983647 | M19: سایر
A20: مرابحه عام دولت274-ش.خ071105 | C20: 3795000 | E20: 799960 | G20: 719964 | I20: -0.1 | K20: 2730777711787 | M20: سایر
... A26: مرابحه داروسازی داناامین090520 | C26: 2000000 | E26: 940900 | G26: 919232 | I26: -0.023 | K26: 1837464335200 | M26: سایر
A27: جمع | K27: 24926801923650

Sheet سپرده (2)
A1: صندوق سرمایه‌گذاری امین یکم فردا
A2: صورت وضعیت پرتفوی
A3: برای ماه منتهی به 1405/07/30
A5: -4-1 | B5: سرمایه‌گذاری در سپرده‌ بانکی
D6: 1405/06/31 | F6: تغییرات طی دوره | J6: 1405/07/30
A8: سپرده های بانکی | D8: مبلغ | F8: افزایش | H8: کاهش | J8: مبلغ | L8: درصد به کل دارایی ها
A9: سپرده‌های بانک اقتصاد نوین | D9: 375574751 | F9: 1585489 | H9: 2217600 | J9: 374942640 | L9: 0
A10: سپرده‌های بانک پارسیان | D10: 581534 | F10: 10002459 | H10: 2217600 | J10: 8366393 | L10: 0
A11: سپرده‌های بانک خاورمیانه | D11: 939353242 | F11: 1752763887858 | H11: 1751867500947 | J11: 1835740153 | L11: 0
A12: سپرده‌های بانک سپه | D12: 170000 | F12: 10000000 | H12: 0 | J12: 10170000 | L12: 0
A13: سپرده‌های بانک صادرات | D13: 308106786065 | F13: 312500453475 | H13: 620177526301 | J13: 429713239 | L13: 0
A14: سپرده‌های موسسه اعتباری ملل | D14: 265008081366 | F14: 7503973644 | H14: 2750540000 | J14: 269761515010 | L14: 0.0053
A15: سپرده‌های بانک پاسارگاد | D15: 3648624 | F15: 15428 | H15: 2217600 | J15: 1446452 | L15: 0
A16: سپرده‌های بانک دی | D16: 721863880844 | F16: 7031298803819 | H16: 3997354600000 | J16: 3755808084663 | L16: 0.0732
A17: سپرده‌های بانک تجارت | D17: 1865264843 | F17: 405 | H17: 1860501000 | J17: 4764248 | L17: 0
A18: سپرده‌های بانک شهر | D18: 2768005836386 | F18: 2911366690411 | H18: 5678912522000 | J18: 460004797 | L18: 0
A19: سپرده‌های بانک گردشگری | D19: 9945375934328 | F19: 15651657731991 | H19: 15744868554355 | J19: 9852165111964 | L19: 0.1921
A20: سپرده‌های بانک ملت | D20: 184248155 | F20: 752796 | H20: 630000 | J20: 184370951 | L20: 0
A21: جمع | D21: =SUM(D9:D20) -> 14011729360138 | F21: =SUM(F9:F20) -> 27667113897775 | H21: =SUM(H9:H20) -> 27797799027403 | J21: =SUM(J9:J20) -> 13881044230510 | L21: =SUM(L9:L20) -> 0.2706

Sheet درآمد
A1: صندوق سرمایه‌گذاری امین یکم فردا
A2: صورت وضعیت درآمدها
A3: برای ماه منتهی به 1405/07/30
A5: -2 | B5: درآمد حاصل از سرمایه گذاری ها
A7: شرح | D7: یادداشت | F7: مبلغ | H7: درصد از کل درآمدها | J7: درصد از کل دارایی ها
A8: درآمد حاصل از سرمایه گذاری در سهام و حق تقدم سهام | D8: 1-2 | F8: ='درآمد سرمایه گذاری در سهام'!U83 -> 2045166699363 | H8: =F8/8342852637870 -> 0.24513998 | J8: =F8/51322454852193 -> 0.039849355
A9: درآمد حاصل از سرمایه گذاری در واحدهای صندوق های سرمایه گذاری | D9: 2-2 | F9: ='درآمد سرمایه گذاری در صندوق'!U25 -> 1055618109667 | H9: =F9/8342852637870 -> 0.12652964 | J9: =F9/51322454852193 -> 0.020568348
A10: درآمد حاصل از سرمایه گذاری در اوراق بهادار با درآمد ثابت | D10: 3-2 | F10: ='درآمد سرمایه گذاری در اوراق به'!R35 -> 2742934224927 | H10: =F10/8342852637870 -> 0.32877654 | J10: =F10/51322454852193 -> 0.05344511
A11: درآمد حاصل از سرمایه گذاری در سپرده بانکی و گواهی سپرده | D11: 4-2 | F11: ='درآمد سپرده بانکی (2)'!H18 -> 2449653650101 | H11: =F11/8342852637870 -> 0.29362303 | J11: =F11/51322454852193 -> 0.047730641
A12: سایر درآمدها | D12: 5-2 | F12: ='سایر درآمدها'!F11 -> 10091926780 | H12: =F12/8342852637870 -> 0.0012096494 | J12: =F12/51322454852193 -> 0.00019663765
A13: جمع | F13: =SUM(F8:F12) -> 8303464610838 | H13: =SUM(H8:H12) -> 0.99527883 | J13: =SUM(J8:J12) -> 0.16179009

Sheet درآمد سرمایه گذاری در سهام
A1: صندوق سرمایه‌گذاری امین یکم فردا
A2: صورت وضعیت درآمدها
A3: برای ماه منتهی به 1405/07/30
A5: -1-2 | B5: درآمد حاصل از سرمایه­گذاری در سهام و حق تقدم سهام
D6: طی ماه | N6: از ابتدای سال مالی
J7: جمع | U7: جمع
A8: سهام | D8: درآمد سود سهام | F8: درآمد تغییر ارزش | H8: درآمد فروش | J8: مبلغ | L8: درصد از کل درآمدها | N8: درآمد سود سهام | P8: درآمد تغییر ارزش | S8: درآمد فروش | U8: مبلغ | W8: درصد از کل درآمدها
A9: سرمایه‌گذاری‌صندوق‌بازنشستگی‌ | D9: 0 | F9: 0 | H9: 44239084138 | J9: 44239084138 | L9: 3.32 | N9: 5888000000 | P9: 0 | S9: 44239084138 | U9: 50127084138 | W9: 0.6
A10: پتروشیمی پردیس | D10: 0 | F10: 0 | H10: -5609057572 | J10: -5609057572 | L10: -0.42 | N10: 0 | P10: 0 | S10: -5609057572 | U10: -5609057572 | W10: -0.07
A11: گروه پتروشیمی تابان فردا | D11: 0 | F11: -10407157947 | H11: 1264366514 | J11: -9142791433 | L11: -0.69 | N11: 122000000 | P11: -10512124052 | S11: 1264366514 | U11: -9125757538 | W11: -0.11
A12: گروه مالی صبا تامین | D12: 0 | F12: 0 | H12: 29632212256 | J12: 29632212256 | L12: 2.22 | N12: 2051806053 | P12: 0 | S12: 29632212256 | U12: 31684018309 | W12: 0.38
A13: احیا استیل فولاد بافت | D13: 0 | F13: -4148426887 | H13: 7695077865 | J13: 3546650978 | L13: 0.27 | N13: 0 | P13: 9768693641 | S13: 7695077865 | U13: 17463771506 | W13: 0.21
A14: بانک‌ کارآفرین‌ | D14: 0 | F14: 0 | H14: 0 | J14: 0 | L14: 0 | N14: 0 | P14: 0 | S14: 66510698047 | U14: 66510698047 | W14: 0.8
A15: س. و توسعه صنایع لاستیک | D15: 0 | F15: 0 | H15: 0 | J15: 0 | L15: 0 | N15: 0 | P15: 0 | S15: 408543128 | U15: 408543128 | W15: 0
A16: آلیاژ گستر هامون | D16: 0 | F16: 0 | H16: 0 | J16: 0 | L16: 0 | N16: 279956229 | P16: 0 | S16: -187811762 | U16: 92144467 | W16: 0
A17: ح . سنگ آهن گهرزمین | D17: 0 | F17: 0 | H17: 0 | J17: 0 | L17: 0 | N17: 0 | P17: 0 | S17: -768038713 | U17: -768038713 | W17: -0.01
A18: بیمه البرز | D18: 0 | F18: 0 | H18: 0 | J18: 0 | L18: 0 | N18: 2605512240 | P18: 0 | S18: 9977504774 | U18: 12583017014 | W18: 0.15
A19: پالایش نفت اصفهان | D19: 0 | F19: 11243541476 | H19: 0 | J19: 11243541476 | L19: 0.84 | N19: 3744451060 | P19: 40440974625 | S19: -4385 | U19: 44185421300 | W19: 0.53
A20: ح . تامین سرمایه امین | D20: 0 | F20: 0 | H20: 0 | J20: 0 | L20: 0 | N20: 0 | P20: 0 | S20: 118012675427 | U20: 118012675427 | W20: 1.41
... A82: شرکت س استان کردستان | D82: 0 | F82: 0 | H82: 0 | J82: 0 | L82: 0 | N82: 0 | P82: 0 | S82: 0 | U82: 0 | W82: 0
A83: جمع | D83: 6782483829 | F83: 411073610155 | H83: 77221683201 | J83: 495077777185 | L83: 37.15 | N83: 111328113096 | Q83: 1620641342963 | S83: 313197243304 | U83: 2045166699363 | W83: 24.5

Sheet درآمد سرمایه گذاری در صندوق
A1: صندوق سرمایه‌گذاری امین یکم فردا
A2: صورت وضعیت درآمدها
A3: برای ماه منتهی به 1405/07/30
A5: -2-2 | B5: درآمد حاصل از سرمایه­گذاری در واحدهای صندوق
D6: طی ماه | N6: از ابتدای سال مالی
J7: جمع | U7: جمع
A8: صندوق | D8: درآمد سود صندوق | F8: درآمد تغییر ارزش | H8: درآمد فروش | J8: مبلغ | L8: درصد از کل درآمدها | N8: درآمد سود صندوق | P8: درآمد تغییر ارزش | S8: درآمد فروش | U8: مبلغ | W8: درصد از کل درآمدها
A9: صندوق س.پشتوانه طلا زرفام آشنا | D9: 0 | F9: 0 | H9: 0 | J9: 0 | L9: 0 | N9: 0 | P9: 0 | S9: -636325138 | U9: -636325138 | W9: -0.01
A10: صندوق امین آوید | D10: 0 | F10: 0 | H10: 0 | J10: 0 | L10: 0 | N10: 0 | P10: 0 | S10: 1112612000 | U10: 1112612000 | W10: 0.01
A11: صندوق طلای عیار مفید | D11: 0 | F11: 0 | H11: 0 | J11: 0 | L11: 0 | N11: 0 | P11: 0 | S11: -33296878 | U11: -33296878 | W11: 0
A12: صندوق س. مشترک امین آوید-س | D12: 0 | F12: 91173566884 | H12: 0 | J12: 91173566884 | L12: 6.84 | N12: 0 | P12: 402047729767 | S12: 5286493 | U12: 402053016260 | W12: 4.82
A13: صندوق س. كالاي پارسيان | D13: 0 | F13: 0 | H13: 0 | J13: 0 | L13: 0 | N13: 0 | P13: 0 | S13: -152441755 | U13: -152441755 | W13: 0
A14: صندوق س.پشتوانه طلا نهایت نگر | D14: 0 | F14: 0 | H14: 0 | J14: 0 | L14: 0 | N14: 0 | P14: 0 | S14: -6069303606 | U14: -6069303606 | W14: -0.07
A15: صندوق س.پشتوانه طلای پاداش | D15: 0 | F15: 31895679200 | H15: 0 | J15: 31895679200 | L15: 2.39 | N15: 0 | P15: 93883204800 | S15: 0 | U15: 93883204800 | W15: 1.13
A16: صندوق س.بخشی کیان3-ب | D16: 0 | F16: 18781702500 | H16: 0 | J16: 18781702500 | L16: 1.41 | N16: 0 | P16: 19153072500 | S16: 0 | U16: 19153072500 | W16: 0.23
A17: صندوق باران کارگزاری بانک کشاورزی | D17: 0 | F17: 23532407690 | H17: 0 | J17: 23532407690 | L17: 1.77 | N17: 0 | P17: 186539962400 | S17: 0 | U17: 186539962400 | W17: 2.24
A18: صندوق پالایشی یکم-سهام | D18: 0 | F18: 3844327663 | H18: 0 | J18: 3844327663 | L18: 0.29 | N18: 0 | P18: 41157574353 | S18: 0 | U18: 41157574353 | W18: 0.49
A19: صندوق س صنایع آروین1-بخشی | D19: 0 | F19: 18283663191 | H19: 0 | J19: 18283663191 | L19: 1.37 | N19: 0 | P19: 41961810053 | S19: 0 | U19: 41961810053 | W19: 0.5
A20: صندوق س.بخشی صنایع پاداش2-ب | D20: 0 | F20: 12039744750 | H20: 0 | J20: 12039744750 | L20: 0.9 | N20: 0 | P20: 50603344000 | S20: 0 | U20: 50603344000 | W20: 0.61
... A24: صندوق س.دی سهام-سهام | D24: 0 | F24: 17209843515 | H24: 0 | J24: 17209843515 | L24: 1.29 | N24: 0 | P24: 63524580955 | S24: 0 | U24: 63524580955 | W24: 0.76
A25: جمع | D25: 0 | F25: 264693982588 | H25: 0 | J25: 264693982588 | L25: 19.85 | N25: 0 | Q25: 1061391578551 | S25: -5773468884 | U25: 1055618109667 | W25: 12.65

Sheet درآمد سرمایه گذاری در اوراق به
A1: صندوق سرمایه‌گذاری امین یکم فردا
A2: صورت وضعیت درآمدها
A3: برای ماه منتهی به 1405/07/30
A5: -3-2 | B5: درآمد حاصل از سرمایه­گذاری در اوراق بهادار با درآمد ثابت:
D6: طی ماه | L6: از ابتدای سال مالی
A8: عنوان | D8: درآمد سود اوراق | F8: درآمد تغییر ارزش | H8: درآمد فروش | J8: جمع | L8: درآمد سود اوراق | N8: درآمد تغییر ارزش | P8: درآمد فروش | R8: جمع
A9: مرابحه س. و توسعه کیش14050724 | D9: 9659327417 | F9: 0 | H9: 239250000 | J9: 9898577417 | L9: 84881840324 | N9: 0 | P9: 239250000 | R9: 85121090324
A10: مرابحه پارس میکاکیش060708 | D10: 62482574451 | F10: -347394824261 | H10: -150211664 | J10: -285062461474 | L10: 418856798168 | N10: -347394824261 | P10: -150211664 | R10: 71311762243
A11: صکوک مرابحه دارو901-بدون ضامن | D11: 53322999954 | F11: -106029213944 | H11: -152637187 | J11: -52858851177 | L11: 373273213588 | N11: -307007963944 | P11: -152637187 | R11: 66112612457
A12: مرابحه داروسازی داناامین090520 | D12: 55482684216 | F12: 38736027130 | H12: -152637187 | J12: 94066074159 | L12: 130754857828 | N12: -162242722869 | P12: -152637187 | R12: -31640502228
A13: صکوک اجاره صند502-بدون ضامن | D13: 0 | F13: 0 | H13: 0 | J13: 0 | L13: 60457693460 | N13: 0 | P13: 750375000 | R13: 61208068460
A14: اجاره تامین اجتماعی14050509 | D14: 0 | F14: 0 | H14: 0 | J14: 0 | L14: 830685581039 | N14: 0 | P14: 477187749419 | R14: 1307873330458
A15: مرابحه عام دولت140-ش.خ050504 | D15: 0 | F15: 0 | H15: 0 | J15: 0 | L15: 17668616959 | N15: 0 | P15: 13728222445 | R15: 31396839404
A16: مرابحه عام دولت 166-ش.خ050419 | D16: 0 | F16: 0 | H16: 0 | J16: 0 | L16: 73714190631 | N16: 0 | P16: 42051168063 | R16: 115765358694
A17: مرابحه عام دولت173-ش.خ050620 | D17: 0 | F17: 0 | H17: 0 | J17: 0 | L17: 79180924442 | N17: 0 | P17: 44225408071 | R17: 123406332513
A18: مرابحه عام دولت186-ش.خ051124 | D18: 11283653752 | F18: 6246201780 | H18: 0 | J18: 17529855532 | L18: 93875665659 | N18: -51906160673 | P18: -4973153967 | R18: 36996351019
A19: مرابحه عام دولت248-ش.خ060727 | D19: 0 | F19: 0 | H19: 0 | J19: 0 | L19: 2830220855 | N19: 0 | P19: 585000000 | R19: 3415220855
A20: شهرداری مشهد | D20: 100382301360 | F20: 0 | H20: 0 | J20: 100382301360 | L20: 120458761632 | N20: 0 | P20: 0 | R20: 120458761632
... A35: جمع | D35: 785413269773 | F35: -545288902263 | H35: -216236038 | J35: 239908131472 | L35: 4967054023285 | N35: -2797458331351 | P35: 573338532993 | R35: 2742934224927

Sheet مبالغ تخصیصی اوراق
A1: صندوق سرمایه‌گذاری امین یکم فردا
A2: صورت وضعیت درآمدها
A3: برای ماه منتهی به 1405/07/30
A5: -1-3-2 | B5: مبالغ تخصیص یافته بابت خرید و نگهداری اوراق بهادار با درآمد ثابت (نرخ سود ترجیحی)
M6: مبلغ شناسایی شده بابت قرارداد خرید و نگهداری اوراق بهادار | S6: میانگین نرخ بازده تا سررسید قراردادهای منعقده
A7: طرف معامله | D7: نوع وابستگی | F7: نام ورقه بهادار | H7: تعداد اوراق | J7: بهای تمام شده اوراق | O7: دوره نگهداری | Q7: نرخ اسمی
A8: شرکت تامین سرمایه امین | D8: مدیر صندوق | F8: اجاره تامین اجتماعی14050509 | H8: 7295000 | J8: =H8*1000000 -> 7295000000000 | M8: 359296730000 | O8: از 1405/01/01 الی 1405/05/09 | Q8: 0.19 | S8: 0.3612
A9: شرکت تامین سرمایه امین | D9: مدیر صندوق | F9: صکوک اجاره صند502-بدون ضامن | H9: 1380000 | J9: =H9*1000000 -> 1380000000000 | M9: 24106312603 | O9: از 1405/01/01 الی 1405/02/10 | Q9: 0.19 | S9: 0.36
A10: شرکت تامین سرمایه امین | D10: مدیر صندوق | F10: مرابحه پارس میکاکیش060708 | H10: 2270000 | J10: =H10*1000000 -> 2270000000000 | M10: 129154676788 | O10: از 1405/01/01 الی 1405/12/29 | Q10: 0.23 | S10: 0.41
A11: شرکت تامین سرمایه امین | D11: مدیر صندوق | F11: مرابحه س. و توسعه کیش14050724 | H11: 440000 | J11: =H11*1000000 -> 440000000000 | M11: 39368371420 | O11: از 1404/10/29 الی 1405/07/24 | Q11: 0.23 | S11: 0.38
A12: شرکت تامین سرمایه امین | D12: مدیر صندوق | F12: مرابحه کاسپین تامین 070625 | H12: 150000 | J12: =H12*1000000 -> 150000000000 | M12: 9206868120 | O12: از 1405/01/01 الی 1405/12/25 | Q12: 0.34 | S12: 0.38
A13: شرکت تامین سرمایه امین | D13: مدیر صندوق | F13: اوراق شهرداری مشهد ماشین آلات عمرانی | H13: 3500000 | J13: =H13*1000000 -> 3500000000000 | M13: 41061501360 | O13: از 1405/06/25 الی 1406/06/25 | Q13: 0.23 | S13: 0.435
A14: شرکت تامین سرمایه امین | D14: مدیر صندوق | F14: صکوک اجاره فارس806-بدون ضامن | H14: =1300000-3000 -> 1297000 | J14: =H14*1000000 -> 1297000000000 | M14: 67187162032 | O14: از 1404/06/24 الی 1405/06/24 | Q14: 0.23 | S14: 0.38
A15: شرکت تامین سرمایه امین | D15: مدیر صندوق | F15: صکوک اجاره صبا806-بدون ضامن | H15: 1500000 | J15: =H15*1000000 -> 1500000000000 | M15: 30786637475 | O15: از 1405/05/07الی 1405/08/27 | Q15: 0.26 | S15: 0.39
F16: مشهد72 | H16: 1500000 | J16: =H16*1000000 -> 1500000000000 | M16: 92203039659 | O16: از 1405/06/29 الی 1406/06/29 | Q16: 0.23 | S16: 0.41
A17: شرکت تامین سرمایه امین | D17: مدیر صندوق | F17: مشهد712 | H17: 1549999 | J17: =H17*1000000 -> 1549999000000 | M17: 96744856380 | O17: از 1405/06/11 الی 1406/06/11 | Q17: 0.23 | S17: 0.41
A18: شرکت گروه خدمات بازار سرمایه آبان | D18: - | F18: اختیارف.ت.هرمز-2496-060218 | H18: 282167044 | J18: 500150239830 | M18: 26688048480 | O18: از 1404/08/19 الی 1406/02/18 | Q18: - | S18: 0.387
D19: - | F19: هدقاضی06061 | H19: 22976885 | J19: 500150239830 | M19: 5810416308 | O19: از 1405/06/15 الی 1406/06/15 | Q19: - | S19: 0.41
A20: سازمان تامین اجتماعی | D20: - | F20: اراد254 | H20: 2706888 | J20: 2500000550160 | M20: 113396139694 | O20: از 1404/09/18 الی 1407/09/11 | Q20: 0.23 | S20: 0.3818
A21: شرکت تامین سرمایه امین | D21: - | F21: صکوک مرابحه دارو901-بدون ضامن | H21: 2000000 | J21: 2000000000000 | M21: 112363309552 | O21: از 1405/01/08 الی 1406/01/08 | Q21: 0.23 | S21: 0.4
A22: شرکت تامین سرمایه امین | D22: - | F22: صکوک مرابحه دارو904 | H22: 1500000 | J22: =H22*1000000 -> 1500000000000 | M22: 40738212360 | O22: از 1405/04/28 الی 1406/04/28 | Q22: 0.23 | S22: 0.41
A23: شرکت تامین سرمایه امین | D23: - | F23: اوراق مرابحه شرکت داروسازي دانا | H23: 2000000 | J23: =H23*1000000 -> 2000000000000 | M23: 34875956146 | O23: از 1405/05/20 لغایت 1406/05/20 | Q23: 0.23 | S23: 0.41
J24: =SUM(J8:J23) -> 29882300029820 | M24: =SUM(M8:M23) -> 1222988238377

Sheet درآمد سپرده بانکی (2)
A1: صندوق سرمایه‌گذاری امین یکم فردا
A2: صورت وضعیت درآمدها
A3: برای ماه منتهی به 1405/07/30
A5: -4-2 | B5: درآمد حاصل از سرمایه­گذاری در سپرده بانکی و گواهی سپرده
D6: طی ماه | H6: از ابتدای سال مالی
A7: نام سپرده بانکی | D7: سود سپرده بانکی و گواهی سپرده | F7: درصد سود به میانگین سپرده | H7: سود سپرده بانکی و گواهی سپرده | J7: درصد سود به میانگین سپرده
A8: سپرده‌های بانک پاسارگاد | D8: 15428 | H8: 27677907498
A9: سپرده‌های بانک دی | D9: 30600893678 | H9: 501776463955
A10: سپرده‌های بانک شهر | D10: 65306674759 | H10: 350849868493
A11: سپرده‌های بانک گردشگری | D11: 259019350236 | H11: 1396026775052
A12: سپرده‌های بانک ملت | D12: 752796 | H12: 40621900757
A13: سپرده‌های بانک اقتصاد نوین | D13: 1585489 | H13: 11248687
A14: سپرده‌های بانک پارسیان | D14: 2459 | H14: 19492
A15: سپرده‌های بانک خاورمیانه | D15: 1084736 | H15: 2722284
A16: سپرده‌های بانک صادرات | D16: 7240563108 | H16: 39086839209
A17: سپرده‌های بانک ملل | D17: 7405480494 | H17: 93599904674
A18: جمع | D18: =SUM(D8:D17) -> 369576403183 | H18: =SUM(H8:H17) -> 2449653650101

Sheet سایر درآمدها
A1: صندوق سرمایه‌گذاری امین یکم فردا
A2: صورت وضعیت درآمدها
A3: برای ماه منتهی به 1405/07/30
A5: -5-2 | B5: سایر درآمدها
D6: طی ماه | F6: 1405/07/30
A7: سایر درآمدها | D7: مبلغ | F7: مبلغ
A8: سایر درآمدها | D8: 0 | F8: 4016691854
A9: معین برای سایر درآمدهای تنزیل سود بانک | D9: 0 | F9: 892046226
A10: تعدیل کارمزد کارگزار | D10: 351778783 | F10: 5183188700
A11: جمع | D11: 351778783 | F11: 10091926780

Sheet درآمد سود سهام
A1: صندوق سرمایه‌گذاری امین یکم فردا
A2: صورت وضعیت درآمدها
A3: برای ماه منتهی به 1405/07/30
A5: درآمد سود سهام
A6: نام سهام | C6: اطلاعات مجمع | I6: طی ماه | O6: از ابتدای سال مالی
C7: تاریخ تشکیل مجمع | E7: تعداد سهام متعلقه در زمان مجمع | G7: سود متعلق به هر سهم | I7: جمع درآمد سود سهام | K7: هزینه تنزیل | M7: خالص درآمد سود سهام | O7: جمع درآمد سود سهام | Q7: هزینه تنزیل | S7: خالص درآمد سود سهام
A8: سرمایه‌گذاری‌صندوق‌بازنشستگی‌ | C8: 1405/04/30 | E8: 3200000 | G8: 1840 | I8: 0 | K8: 0 | M8: 0 | O8: 5888000000 | Q8: 0 | S8: 5888000000
A9: ملی‌ صنایع‌ مس‌ ایران‌ | C9: 1405/04/31 | E9: 30228396 | G9: 450 | I9: 0 | K9: 0 | M9: 0 | O9: 13602778200 | Q9: 0 | S9: 13602778200
A10: توسعه‌معادن‌وفلزات‌ | C10: 1405/04/20 | E10: 6741479 | G10: 120 | I10: 0 | K10: 0 | M10: 0 | O10: 808977480 | Q10: 0 | S10: 808977480
A11: پتروشیمی‌شیراز | C11: 1405/03/27 | E11: 1000000 | G11: 6928 | I11: 0 | K11: 0 | M11: 0 | O11: 6928000000 | Q11: 0 | S11: 6928000000
A12: پالایش نفت اصفهان | C12: 1405/04/30 | E12: 5060069 | G12: 740 | I12: 0 | K12: 0 | M12: 0 | O12: 3744451060 | Q12: 0 | S12: 3744451060
A13: معدنی و صنعتی گل گهر | C13: 1405/02/30 | E13: 7912015 | G13: 190 | I13: 0 | K13: 0 | M13: 0 | O13: 1503282850 | Q13: 0 | S13: 1503282850
A14: فولاد خوزستان | C14: 1405/05/28 | E14: 12737739 | G14: 82 | I14: 0 | K14: 0 | M14: 0 | O14: 1044494598 | Q14: 0 | S14: 1044494598
A15: پتروشیمی شازند | C15: 1405/04/25 | E15: 621899 | G15: 1100 | I15: 0 | K15: 0 | M15: 0 | O15: 684088900 | Q15: 0 | S15: 684088900
A16: بانک ملت | C16: 1405/04/31 | E16: 151044394 | G16: 46 | I16: 0 | K16: 0 | M16: 0 | O16: 6948042124 | Q16: 0 | S16: 6948042124
A17: بیمه البرز | C17: 1405/04/31 | E17: 21712602 | G17: 120 | I17: 0 | K17: 0 | M17: 0 | O17: 2605512240 | Q17: 0 | S17: 2605512240
A18: پالایش نفت بندرعباس | C18: 1405/05/18 | E18: 8120000 | G18: 1189 | I18: 0 | K18: 0 | M18: 0 | O18: 9654680000 | Q18: 181674086 | S18: 9473005914
A19: صنایع پتروشیمی خلیج فارس | C19: 1405/06/25 | E19: 3044096 | G19: 600 | I19: 0 | K19: 0 | M19: 0 | O19: 1826457600 | Q19: 0 | S19: 1826457600
... A32: گروه پتروشیمی تابان فردا | C32: 1405/06/31 | E32: 200000 | G32: 610 | I32: 0 | K32: 0 | M32: 0 | O32: 122000000 | Q32: 0 | S32: 122000000
A33: جمع | I33: 7182000000 | K33: 399516171 | M33: 6782483829 | O33: 112002206522 | Q33: 674093426 | S33: 111328113096

Sheet سود اوراق بهادار
A1: صندوق سرمایه‌گذاری امین یکم فردا
A2: صورت وضعیت درآمدها
A3: برای ماه منتهی به 1405/07/30
A5: سود اوراق بهادار با درآمد ثابت
A6: شرح | J6: طی ماه | P6: از ابتدای سال مالی
C7: تاریخ دریافت سود | E7: تاریخ سررسید | H7: نرخ سود علی الحساب | J7: درآمد سود | L7: هزینه تنزیل | N7: خالص درآمد | P7: درآمد سود | R7: هزینه تنزیل | T7: خالص درآمد
A8: شهرداری مشهد | E8: 1409/02/31 | H8: 23 | J8: 100382301360 | L8: 0 | N8: 100382301360 | P8: 120458761632 | R8: 0 | T8: 120458761632
A9: مرابحه داروسازی داناامین090520 | E9: 1409/05/20 | H9: 23 | J9: 55482684216 | L9: 0 | N9: 55482684216 | P9: 130754857828 | R9: 0 | T9: 130754857828
A10: مرابحه عام دولت298-ش.خ080414 | E10: 1408/04/14 | H10: 23 | J10: 72925997200 | L10: 0 | N10: 72925997200 | P10: 154363021200 | R10: 0 | T10: 154363021200
A11: صکوک مرابحه دارو904-3ماهه23% | E11: 1409/04/28 | H11: 23 | J11: 42188556840 | L11: 0 | N11: 42188556840 | P11: 130425255510 | R11: 0 | T11: 130425255510
A12: مشارکت ش مشهد72-3ماهه23% | E12: 1407/12/28 | H12: 23 | J12: 40222979340 | L12: 0 | N12: 40222979340 | P12: 295642950901 | R12: 0 | T12: 295642950901
A13: مشارکت ش مشهد712-3ماهه23% | E13: 1407/12/28 | H13: 23 | J13: 41559896565 | L13: 0 | N13: 41559896565 | P13: 306522896215 | R13: 0 | T13: 306522896215
A14: صکوک مرابحه دارو901-بدون ضامن | E14: 1409/01/08 | H14: 23 | J14: 53322999954 | L14: 0 | N14: 53322999954 | P14: 373273213588 | R14: 0 | T14: 373273213588
A15: مرابحه عام دولت274-ش.خ071105 | E15: 1407/11/05 | H15: 23 | J15: 67203471737 | L15: 0 | N15: 67203471737 | P15: 204482095046 | R15: 0 | T15: 204482095046
A16: مرابحه عام دولت265-ش.خ070430 | E16: 1407/04/30 | H16: 23 | J16: 39718164017 | L16: 0 | N16: 39718164017 | P16: 290021123602 | R16: 0 | T16: 290021123602
A17: مرابحه عام دولت254-ش.خ070911 | E17: 1407/09/11 | H17: 23 | J17: 53486599415 | L17: 0 | N17: 53486599415 | P17: 484136698454 | R17: 0 | T17: 484136698454
A18: مرابحه عام دولت248-ش.خ060727 | E18: 1406/07/27 | H18: 23 | J18: 0 | L18: 0 | N18: 0 | P18: 2830220855 | R18: 0 | T18: 2830220855
A19: صکوک اجاره فارس806-بدون ضامن | E19: 1408/06/24 | H19: 23 | J19: 33646554878 | L19: 0 | N19: 33646554878 | P19: 242902558379 | R19: 0 | T19: 242902558379
... A32: صکوک اجاره صند502-بدون ضامن | E32: 1405/02/10 | H32: 19 | J32: 0 | L32: 0 | N32: 0 | P32: 60457693460 | R32: 0 | T32: 60457693460
A33: جمع | J33: 785413269773 | L33: 0 | N33: 785413269773 | P33: 4967054023285 | R33: 0 | T33: 4967054023285

Sheet سود سپرده بانکی (2)
A1: صندوق سرمایه‌گذاری امین یکم فردا
A2: صورت وضعیت درآمدها
A3: برای ماه منتهی به 1405/07/30
A5: سود سپرده بانکی
A6: شرح | C6: طی ماه | I6: از ابتدای سال مالی
C7: درآمد سود | E7: هزینه تنزیل | G7: خالص درآمد | I7: درآمد سود | K7: هزینه تنزیل | M7: خالص درآمد
A8: سپرده‌های بانک پاسارگاد | C8: 15428 | E8: 0 | G8: 15428 | I8: 27677907498 | K8: 0 | M8: 27677907498
A9: سپرده‌های بانک دی | C9: 30600893678 | E9: -461015864 | G9: 31061909542 | I9: 501776463955 | K9: 0 | M9: 501776463955
A10: سپرده‌های بانک شهر | C10: 65306674759 | E10: -70928922 | G10: 65377603681 | I10: 350849868493 | K10: 0 | M10: 350849868493
A11: سپرده‌های بانک گردشگری | C11: 259019350236 | E11: -484877436 | G11: 259504227672 | I11: 1396026775052 | K11: 1025188027 | M11: 1395001587025
A12: سپرده‌های بانک ملت | C12: 752796 | E12: 0 | G12: 752796 | I12: 40621900757 | K12: 0 | M12: 40621900757
A13: سپرده‌های بانک اقتصاد نوین | C13: 1585489 | E13: 0 | G13: 1585489 | I13: 11248687 | K13: 0 | M13: 11248687
A14: سپرده‌های بانک پارسیان | C14: 2459 | E14: 0 | G14: 2459 | I14: 19492 | K14: 0 | M14: 19492
A15: سپرده‌های بانک خاورمیانه | C15: 1084736 | E15: 0 | G15: 1084736 | I15: 2722284 | K15: 0 | M15: 2722284
A16: سپرده‌های بانک صادرات | C16: 7240563108 | E16: 0 | G16: 7240563108 | I16: 39086839209 | K16: 0 | M16: 39086839209
A17: سپرده‌های بانک ملل | C17: 7405480494 | E17: -82355 | G17: 7405562849 | I17: 93599904674 | K17: 2470658 | M17: 93597434016
A18: جمع | C18: =SUM(C8:C17) -> 369576403183 | E18: =SUM(E8:E17) -> -1016904577 | G18: =SUM(G8:G17) -> 370593307760 | I18: =SUM(I8:I17) -> 2449653650101 | K18: =SUM(K8:K17) -> 1027658685 | M18: =SUM(M8:M17) -> 2448625991416
N22: =N18-#REF! -> #REF!

Sheet درآمد ناشی از فروش
A1: صندوق سرمایه‌گذاری امین یکم فردا
A2: صورت وضعیت درآمدها
A3: برای ماه منتهی به 1405/07/30
A5: سود(زیان) حاصل از فروش اوراق بهادار
A6: شرح | C6: طی ماه | K6: از ابتدای سال مالی
C7: تعداد | E7: خالص بهای فروش | G7: ارزش دفتری | I7: سود و زیان ناشی از فروش | K7: تعداد | M7: خالص بهای فروش | O7: ارزش دفتری | Q7: سود و زیان ناشی از فروش
A8: سرمایه‌گذاری‌صندوق‌بازنشستگی‌ | C8: 3200000 | E8: 94345114750 | G8: 50106030612 | I8: 44239084138 | K8: 3200000 | M8: 94345114750 | O8: 50106030612 | Q8: 44239084138
A9: پتروشیمی پردیس | C9: 3994160 | E9: 46587556421 | G9: 52196613993 | I9: -5609057572 | K9: 3994160 | M9: 46587556421 | O9: 52196613993 | Q9: -5609057572
A10: گروه پتروشیمی تابان فردا | C10: 200000 | E10: 5072484259 | G10: 3808117745 | I10: 1264366514 | K10: 200000 | M10: 5072484259 | O10: 3808117745 | Q10: 1264366514
A11: گروه مالی صبا تامین | C11: 3883867 | E11: 43317214814 | G11: 13685002558 | I11: 29632212256 | K11: 3883867 | M11: 43317214814 | O11: 13685002558 | Q11: 29632212256
A12: احیا استیل فولاد بافت | C12: 5330000 | E12: 25597787806 | G12: 17902709941 | I12: 7695077865 | K12: 5330000 | M12: 25597787806 | O12: 17902709941 | Q12: 7695077865
A13: بانک‌ کارآفرین‌ | C13: 0 | E13: 0 | G13: 0 | I13: 0 | K13: 67535492 | M13: 198627841605 | O13: 132117143558 | Q13: 66510698047
A14: صندوق س.پشتوانه طلا زرفام آشنا | C14: 0 | E14: 0 | G14: 0 | I14: 0 | K14: 1075000 | M14: 138892289362 | O14: 139528614500 | Q14: -636325138
A15: س. و توسعه صنایع لاستیک | C15: 0 | E15: 0 | G15: 0 | I15: 0 | K15: 563500 | M15: 5049439531 | O15: 4640896403 | Q15: 408543128
A16: صندوق امین آوید | C16: 0 | E16: 0 | G16: 0 | I16: 0 | K16: 28528000 | M16: 276664544000 | O16: 275551932000 | Q16: 1112612000
A17: آلیاژ گستر هامون | C17: 0 | E17: 0 | G17: 0 | I17: 0 | K17: 1675000 | M17: 6714691232 | O17: 6902502994 | Q17: -187811762
A18: ح . سنگ آهن گهرزمین | C18: 0 | E18: 0 | G18: 0 | I18: 0 | K18: 795336 | M18: 2927887679 | O18: 3695926392 | Q18: -768038713
A19: بیمه البرز | C19: 0 | E19: 0 | G19: 0 | I19: 0 | K19: 21712602 | M19: 48691165899 | O19: 38713661125 | Q19: 9977504774
... A50: مرابحه عام دولت248-ش.خ060727 | C50: 0 | E50: 0 | G50: 0 | I50: 0 | K50: 470000 | M50: 416712500000 | O50: 416127500000 | Q50: 585000000
A51: جمع | E51: 669462246489 | G51: 592456799326 | I51: 77005447163 | M51: 13160374537457 | O51: 12279612230044 | Q51: 880762307413

Sheet درآمد ناشی از تغییر قیمت اوراق
A1: صندوق سرمایه‌گذاری امین یکم فردا
A2: صورت وضعیت درآمدها
A3: برای ماه منتهی به 1405/07/30
A5: درآمد ناشی از تغییر قیمت اوراق بهادار
A6: شرح | C6: طی ماه | K6: از ابتدای سال مالی
C7: تعداد | E7: خالص ارزش فروش | G7: ارزش دفتری | I7: سود و زیان ناشی از تغییر قیمت | K7: تعداد | M7: خالص ارزش فروش | O7: ارزش دفتری | Q7: سود و زیان ناشی از تغییر قیمت
A8: پتروشیمی‌شیراز | C8: 943935 | E8: 65564686771 | G8: 65583419539 | I8: -18732767 | K8: 943935 | M8: 65564686771 | O8: 69248836277 | Q8: -3684149505
A9: شرکت س استان همدان | C9: 10000 | E9: 5080422 | G9: 5080422 | I9: 0 | K9: 10000 | M9: 5080422 | O9: 5080422 | Q9: 0
A10: تامین سرمایه امین | C10: 257779272 | E10: 743315970688 | G10: 679625097770 | I10: 63690872918 | K10: 257779272 | M10: 743315970688 | O10: 564220727942 | Q10: 179095242746
A11: داروسازی دانا | C11: 2338000 | E11: 63658804014 | G11: 44704998300 | I11: 18953805714 | K11: 2338000 | M11: 63658804014 | O11: 11941825570 | Q11: 51716978444
A12: شرکت س استان آذربایجان شرقی | C12: 10000 | E12: 4276683 | G12: 4276683 | I12: 0 | K12: 10000 | M12: 4276683 | O12: 4276683 | Q12: 0
A13: صندوق س.پشتوانه طلای پاداش | C13: 14000000 | E13: 327053064800 | G13: 295157385600 | I13: 31895679200 | K13: 14000000 | M13: 327053064800 | O13: 233169860000 | Q13: 93883204800
A14: صندوق س. مشترک امین آوید-س | C14: 34327500 | E14: 750043173825 | G14: 658869606941 | I14: 91173566884 | K14: 34327500 | M14: 750043173825 | O14: 347995444058 | Q14: 402047729767
A15: صندوق س.بخشی کیان3-ب | C15: 5000000 | E15: 69265322500 | G15: 50483620000 | I15: 18781702500 | K15: 5000000 | M15: 69265322500 | O15: 50112250000 | Q15: 19153072500
A16: شرکت س استان اردبیل | C16: 10000 | E16: 12066003 | G16: 12066003 | I16: 0 | K16: 10000 | M16: 12066003 | O16: 12066003 | Q16: 0
A17: شرکت س استان آذربایجان غربی | C17: 10000 | E17: 4316374 | G17: 4316374 | I17: 0 | K17: 10000 | M17: 4316374 | O17: 4316374 | Q17: 0
A18: س.سهام عدالت استان خراسان رضوی | C18: 10000 | E18: 6836740 | G18: 6836740 | I18: 0 | K18: 10000 | M18: 6836740 | O18: 6836740 | Q18: 0
A19: پتروشیمی نوری | C19: 668664 | E19: 28377690870 | G19: 33944415827 | I19: -5566724956 | K19: 668664 | M19: 28377690870 | O19: 18909613977 | Q19: 9468076893
... A93: ظدقاضی06071 | C93: 22976885 | E93: 22959480 | G93: 22959480 | I93: 0 | K93: 22976885 | M93: 22959480 | O93: 22959480 | Q93: 0
A94: جمع | E94: 32448472236970 | G94: 32317993546498 | I94: 130478690480 | M94: 32448472236970 | O94: 32563897646824 | Q94: -115425409837
